BEGIN:VCALENDAR
VERSION:2.0
PRODID:-//Tukios.com/
BEGIN:VEVENT
UID:fcf75694-b64e-41fd-acfd-76ea2f80fa74@www.peacockfuneralhome.com
DTSTAMP:20260420T230303Z
DTSTART:20260425T163000Z
DTEND:20260425T173000Z
SUMMARY:Memorial Service
DESCRIPTION:
URL:https://www.peacockfuneralhome.com/obituaries/luanne-hall
LOCATION:The Church of Jesus Christ of Latter-Day Saints 1700 South 14th 
	Street  Lamar CO 81052
GEO:38.0721238;-102.6319372
END:VEVENT
END:VCALENDAR