BEGIN:VCALENDAR
VERSION:2.0
PRODID:-//Tukios.com/
BEGIN:VEVENT
UID:70a0090e-e80d-4d4c-b372-514565470ccb@www.peacockfuneralhome.com
DTSTAMP:20260420T230353Z
DTSTART:20260425T150000Z
DTEND:20260425T160000Z
SUMMARY:Visitation
DESCRIPTION:
URL:https://www.peacockfuneralhome.com/obituaries/luanne-hall
LOCATION:The Church of Jesus Christ of Latter-Day Saints 1700 South 14th 
	Street  Lamar CO 81052
GEO:38.0721238;-102.6319372
END:VEVENT
END:VCALENDAR