BEGIN:VCALENDAR
VERSION:2.0
PRODID:-//Tukios.com/
BEGIN:VEVENT
UID:9922714d-2237-47b8-a57d-425757232bc9@www.peacockfuneralhome.com
DTSTAMP:20260424T005905Z
DTSTART:20260430T170000Z
DTEND:20260430T180000Z
SUMMARY:Celebration of Life
DESCRIPTION:
URL:https://www.peacockfuneralhome.com/obituaries/harry-spitzer
LOCATION:Peacock Family Chapel 209 South 4th Street  Lamar CO 81052
GEO:38.0876258;-102.6175314
END:VEVENT
END:VCALENDAR