BEGIN:VCALENDAR
VERSION:2.0
PRODID:-//Tukios.com/
BEGIN:VEVENT
UID:8c06cf0d-0e70-498e-a23a-8aab8b2d9d15@www.peacockfuneralhome.com
DTSTAMP:20260424T005406Z
DTSTART:20260430T150000Z
DTEND:20260430T170000Z
SUMMARY:Visitation
DESCRIPTION:
URL:https://www.peacockfuneralhome.com/obituaries/harry-spitzer
LOCATION:Peacock Family Chapel 209 South 4th Street  Lamar CO 81052
GEO:38.0876258;-102.6175314
END:VEVENT
END:VCALENDAR